BEGIN:VCALENDAR
VERSION:2.0
PRODID:-//hacksw/handcal//NONSGML v1.0//EN
BEGIN:VEVENT
SUMMARY:Finales Regionales par Classements
UID:37b3a7da-28a4-4a29-ad72-3a5cc655ac5e
DTSTART:20260424T220000Z
DTEND:20260426T220000Z
LOCATION:Localisation place Pierre de Coubertin 53201 St Berthevin
CATEGORIES:Sportif
STATUS:
DESCRIPTION:<p><strong>Samedi 25 avril </strong><br>
 Tableaux F9 et
 H12 – Pointage 9h30 et debut 10h<br>
 Tableaux F12 et H15 –
 Pointage 11h et debut 11h30</p>
 
 <p><strong>Dimanche 26
 avril</strong><br>
 Tableaux F5 et H8 – Pointage 8h30 et debut 9h
 – Fin 17h30<br>
 Tableaux F7 et H10 – Pointage 9h30 et debut 10h15
 – Fin 17h</p>
URL;VALUE=URI:https://www.ttlarochevendee.fr/evenements/2026/04/25/finales-regionales-par-classements-2443955
END:VEVENT
END:VCALENDAR
