BEGIN:VCALENDAR
VERSION:2.0
PRODID:-//hacksw/handcal//NONSGML v1.0//EN
BEGIN:VEVENT
SUMMARY:D2 :  Roche Vendee 4 / Bellevigny 3
UID:9d88cdce-1c42-4005-8461-79c2d7f28840
DTSTART:20260308T080000Z
DTEND:20260308T230000Z
LOCATION:Localisation   
CATEGORIES:Sportif
STATUS:
URL;VALUE=URI:https://www.ttlarochevendee.fr/evenements/2026/03/08/d2-roche-vendee-4-bellevigny-3-2405205
END:VEVENT
END:VCALENDAR
